BEGIN:VCALENDAR
VERSION:2.0
PRODID:-//Wapen van Ankeveen - ECPv6.15.20//NONSGML v1.0//EN
CALSCALE:GREGORIAN
METHOD:PUBLISH
X-ORIGINAL-URL:https://wapenvanankeveen.nl
X-WR-CALDESC:Evenementen voor Wapen van Ankeveen
REFRESH-INTERVAL;VALUE=DURATION:PT1H
X-Robots-Tag:noindex
X-PUBLISHED-TTL:PT1H
BEGIN:VTIMEZONE
TZID:Europe/Amsterdam
BEGIN:DAYLIGHT
TZOFFSETFROM:+0100
TZOFFSETTO:+0200
TZNAME:CEST
DTSTART:20240331T010000
END:DAYLIGHT
BEGIN:STANDARD
TZOFFSETFROM:+0200
TZOFFSETTO:+0100
TZNAME:CET
DTSTART:20241027T010000
END:STANDARD
BEGIN:DAYLIGHT
TZOFFSETFROM:+0100
TZOFFSETTO:+0200
TZNAME:CEST
DTSTART:20250330T010000
END:DAYLIGHT
BEGIN:STANDARD
TZOFFSETFROM:+0200
TZOFFSETTO:+0100
TZNAME:CET
DTSTART:20251026T010000
END:STANDARD
BEGIN:DAYLIGHT
TZOFFSETFROM:+0100
TZOFFSETTO:+0200
TZNAME:CEST
DTSTART:20260329T010000
END:DAYLIGHT
BEGIN:STANDARD
TZOFFSETFROM:+0200
TZOFFSETTO:+0100
TZNAME:CET
DTSTART:20261025T010000
END:STANDARD
BEGIN:DAYLIGHT
TZOFFSETFROM:+0100
TZOFFSETTO:+0200
TZNAME:CEST
DTSTART:20270328T010000
END:DAYLIGHT
BEGIN:STANDARD
TZOFFSETFROM:+0200
TZOFFSETTO:+0100
TZNAME:CET
DTSTART:20271031T010000
END:STANDARD
END:VTIMEZONE
BEGIN:VEVENT
DTSTART;TZID=Europe/Amsterdam:20260419T150000
DTEND;TZID=Europe/Amsterdam:20260419T190000
DTSTAMP:20260420T092037
CREATED:20260128T152612Z
LAST-MODIFIED:20260128T152612Z
UID:10000139-1776610800-1776625200@wapenvanankeveen.nl
SUMMARY:Jamsessie met Brigitte de Boer
DESCRIPTION:Brigitte de Boer\, verzorgd wederom een Jazz & more Jamsessie waar het niveau weer lekker hoog ligt. Neemt niet weg dat iedereen zich weer kan aanmelden om mee te jammen Jazz & More staat vandaag op het programma.
URL:https://wapenvanankeveen.nl/evenement/jamsessie-met-brigitte-de-boer-8/
LOCATION:Wapen van Ankeveen\, Stichts End 41\, Ankeveen\, Noord-Holland\, 1244 PK\, Nederland
ATTACH;FMTTYPE=image/jpeg:https://wapenvanankeveen.nl/wp-content/uploads/2024/04/Jamsessies-1130x650-1.jpg
END:VEVENT
BEGIN:VEVENT
DTSTART;TZID=Europe/Amsterdam:20260328T203000
DTEND;TZID=Europe/Amsterdam:20260328T203000
DTSTAMP:20260420T092037
CREATED:20260126T141759Z
LAST-MODIFIED:20260126T142056Z
UID:10000136-1774729800-1774729800@wapenvanankeveen.nl
SUMMARY:Apresski feest
DESCRIPTION:Het skiseizoen zit er op. Dat betekend dat we op deze avond nog een keer helemaal los gaan met de lekkerste apreski hits. Onder het genot van een lading bier\, Flugel\,  Jagerbombs\, Schnapps\, Apfelcorn etc. De allerleukste apresski hits zullen de revue passeren . Deze mag je niet missen.
URL:https://wapenvanankeveen.nl/evenement/apresski-feest-3/
LOCATION:Wapen van Ankeveen\, Stichts End 41\, Ankeveen\, Noord-Holland\, 1244 PK\, Nederland
ATTACH;FMTTYPE=image/jpeg:https://wapenvanankeveen.nl/wp-content/uploads/2026/01/28-maart-2030.jpg
END:VEVENT
BEGIN:VEVENT
DTSTART;TZID=Europe/Amsterdam:20260315T150000
DTEND;TZID=Europe/Amsterdam:20260315T190000
DTSTAMP:20260420T092037
CREATED:20260128T154007Z
LAST-MODIFIED:20260128T154007Z
UID:10000142-1773586800-1773601200@wapenvanankeveen.nl
SUMMARY:Jamsessie Egbert Reulen
DESCRIPTION:Egbert Reulen\, verzorgd wederom een Jamsessie waar het niveau weer zeer hoog ligt. Neemt niet weg dat iedereen zich weer kan aanmelden om mee te jammen.
URL:https://wapenvanankeveen.nl/evenement/jamsessie-egbert-reulen-7/
LOCATION:Wapen van Ankeveen\, Stichts End 41\, Ankeveen\, Noord-Holland\, 1244 PK\, Nederland
ATTACH;FMTTYPE=image/jpeg:https://wapenvanankeveen.nl/wp-content/uploads/2024/04/Jamsessies-1130x650-1.jpg
END:VEVENT
BEGIN:VEVENT
DTSTART;TZID=Europe/Amsterdam:20260308T150000
DTEND;TZID=Europe/Amsterdam:20260308T190000
DTSTAMP:20260420T092037
CREATED:20260128T152507Z
LAST-MODIFIED:20260128T152507Z
UID:10000138-1772982000-1772996400@wapenvanankeveen.nl
SUMMARY:Jamsessie met Brigitte de Boer
DESCRIPTION:Brigitte de Boer\, verzorgd wederom een Jazz & more Jamsessie waar het niveau weer lekker hoog ligt. Neemt niet weg dat iedereen zich weer kan aanmelden om mee te jammen Jazz & More staat vandaag op het programma.
URL:https://wapenvanankeveen.nl/evenement/jamsessie-met-brigitte-de-boer-7/
LOCATION:Wapen van Ankeveen\, Stichts End 41\, Ankeveen\, Noord-Holland\, 1244 PK\, Nederland
ATTACH;FMTTYPE=image/jpeg:https://wapenvanankeveen.nl/wp-content/uploads/2024/04/Jamsessies-1130x650-1.jpg
END:VEVENT
BEGIN:VEVENT
DTSTART;TZID=Europe/Amsterdam:20260301T140000
DTEND;TZID=Europe/Amsterdam:20260301T170000
DTSTAMP:20260420T092037
CREATED:20260126T140759Z
LAST-MODIFIED:20260126T140815Z
UID:10000134-1772373600-1772384400@wapenvanankeveen.nl
SUMMARY:Jamsessie Hearsay
DESCRIPTION:Jamsessie met Hearsay\, we beginnen om 14:00 uur\, iets vroeger dan je van ons gewend bent maar daarom niet minder leuk! Kom gezellig meedoen of kijk hoe anderen samen muziek maken😃 tot morgen dus!\nWapen van Ankeveen\, Stichts End 41\, Ankeveen.\nParkeren doe je gratis op ca 100 meter van het café op het marktplein naast de kerk.
URL:https://wapenvanankeveen.nl/evenement/jamsessie-hearsay-2/
LOCATION:Wapen van Ankeveen\, Stichts End 41\, Ankeveen\, Noord-Holland\, 1244 PK\, Nederland
ATTACH;FMTTYPE=image/jpeg:https://wapenvanankeveen.nl/wp-content/uploads/2026/01/84e2e541-d413-4bbd-9ad8-cc148759244d.jpg
END:VEVENT
BEGIN:VEVENT
DTSTART;TZID=Europe/Amsterdam:20260222T160000
DTEND;TZID=Europe/Amsterdam:20260222T210000
DTSTAMP:20260420T092037
CREATED:20260126T140653Z
LAST-MODIFIED:20260126T141954Z
UID:10000133-1771776000-1771794000@wapenvanankeveen.nl
SUMMARY:Bultpop met Cover Up
DESCRIPTION:Tickets € 10\,- of € 25.- (incl. Bultmenu) \nBultpop: een succesvolle serie popconcerten\, opgedragen aan Henk (Bult) Bezemer. \nDe Bultpop-traditie presenteert top-coverband CoverUp! Deze energieke 7-mansformatie\, met onze eigen Ankevener Ron Wehrens op toetsen\, belooft een spetterende middag vol onvergetelijke muziek. \nRaya (18) doet de vooropleiding Zang aan het Conservatorium Utrecht en kent werkelijk álles wat de afgelopen decennia in de jukeboxen en Top 2000’s heeft gestaan. Samen met Michiel – ook zanger in hart en nieren – vormt ze een vocaal duo dat prachtig blend. En dan Gijs op sax: een muzikant die geen bladmuziek nodig heeft om een nummer nét dat extra te geven met funky accenten of een vette solo. \nNatuurlijk tijdloze klassiekers van ABBA\, Queen\, Tina Turner en Prince\, maar ook hedendaagse hits van artiesten als Dua Lipa\, Lizzo\, Lady Gaga en Flemming. Van soul en funk tot pop en disco\, met een vleugje Nederlandstalig ertussendoor – het dak gaat eraf! \nStilzitten is geen optie! (maar ja\, er zijn ook maar een paar zitplaatsen beschikbaar). \nNa afloop wordt in café Het Wapen van Ankeveen een speciaal Bultmenu geserveerd. \nKaarten verkrijgbaar via: www.dedillewijn.nl
URL:https://wapenvanankeveen.nl/evenement/bultpop-met-cover-up/
LOCATION:Wapen van Ankeveen\, Stichts End 41\, Ankeveen\, Noord-Holland\, 1244 PK\, Nederland
ATTACH;FMTTYPE=image/jpeg:https://wapenvanankeveen.nl/wp-content/uploads/2026/01/Zondag-22-februari.jpg
END:VEVENT
BEGIN:VEVENT
DTSTART;TZID=Europe/Amsterdam:20260221T203000
DTEND;TZID=Europe/Amsterdam:20260221T203000
DTSTAMP:20260420T092037
CREATED:20260126T140124Z
LAST-MODIFIED:20260130T104542Z
UID:10000144-1771705800-1771705800@wapenvanankeveen.nl
SUMMARY:APT Pokertoernooi
DESCRIPTION:Een laagdrempelig tournooi waar zelfs de beginnende pokeraar  kan meedoen. We zullen ouderwets eens per 3 à 4 weken kunnen gaan pokeren en zo tot de zomer van 2026 een volledig seizoen kunnen gaan spelen! Doe je gezellig een keertje mee? \n  \n  \n 
URL:https://wapenvanankeveen.nl/evenement/apt-pokertoernooi-11/
LOCATION:Wapen van Ankeveen\, Stichts End 41\, Ankeveen\, Noord-Holland\, 1244 PK\, Nederland
ATTACH;FMTTYPE=image/jpeg:https://wapenvanankeveen.nl/wp-content/uploads/2026/01/apresski.jpg
END:VEVENT
BEGIN:VEVENT
DTSTART;TZID=Europe/Amsterdam:20260214T190000
DTEND;TZID=Europe/Amsterdam:20260215T000000
DTSTAMP:20260420T092037
CREATED:20260126T140447Z
LAST-MODIFIED:20260126T141902Z
UID:10000132-1771095600-1771113600@wapenvanankeveen.nl
SUMMARY:Carnaval 2026
DESCRIPTION:Ook dit jaar viert Carnavalsvereniging de Schuimlikkers massaal Carnaval in Cafe het Wapen van Ankeveen. Een speciale line-up maakt dit weekend tot een ongekend evenement. \nZaterdag 14 februari :Dj\, en zangers \nZondag 15 februari : Familiecarnaval met leuke activiteiten voor de kinderen.
URL:https://wapenvanankeveen.nl/evenement/carnaval-2026/
LOCATION:Wapen van Ankeveen\, Stichts End 41\, Ankeveen\, Noord-Holland\, 1244 PK\, Nederland
ATTACH;FMTTYPE=image/jpeg:https://wapenvanankeveen.nl/wp-content/uploads/2026/01/PHOTO-2026-01-26-11-10-57.jpg
END:VEVENT
BEGIN:VEVENT
DTSTART;TZID=Europe/Amsterdam:20260208T150000
DTEND;TZID=Europe/Amsterdam:20260208T190000
DTSTAMP:20260420T092037
CREATED:20260126T140214Z
LAST-MODIFIED:20260126T140214Z
UID:10000131-1770562800-1770577200@wapenvanankeveen.nl
SUMMARY:Jamsessie Egbert Reulen
DESCRIPTION:Egbert Reulen\, verzorgd wederom een Jamsessie waar het niveau weer zeer hoog ligt. Neemt niet weg dat iedereen zich weer kan aanmelden om mee te jammen.
URL:https://wapenvanankeveen.nl/evenement/jamsessie-egbert-reulen-5/
LOCATION:Wapen van Ankeveen\, Stichts End 41\, Ankeveen\, Noord-Holland\, 1244 PK\, Nederland
ATTACH;FMTTYPE=image/jpeg:https://wapenvanankeveen.nl/wp-content/uploads/2024/04/Jamsessies-1130x650-1.jpg
END:VEVENT
BEGIN:VEVENT
DTSTART;TZID=Europe/Amsterdam:20260207T203000
DTEND;TZID=Europe/Amsterdam:20260207T203000
DTSTAMP:20260420T092037
CREATED:20260130T104348Z
LAST-MODIFIED:20260130T104439Z
UID:10000143-1770496200-1770496200@wapenvanankeveen.nl
SUMMARY:APT Pokertoernooi
DESCRIPTION:Een laagdrempelig tournooi waar zelfs de beginnende pokeraar  kan meedoen. We zullen ouderwets eens per 3 à 4 weken kunnen gaan pokeren en zo tot de zomer van 2026 een volledig seizoen kunnen gaan spelen! Doe je gezellig een keertje mee? \n  \n  \n 
URL:https://wapenvanankeveen.nl/evenement/apt-pokertoernooi-12/
LOCATION:Wapen van Ankeveen\, Stichts End 41\, Ankeveen\, Noord-Holland\, 1244 PK\, Nederland
ATTACH;FMTTYPE=image/jpeg:https://wapenvanankeveen.nl/wp-content/uploads/2026/01/apresski.jpg
END:VEVENT
BEGIN:VEVENT
DTSTART;TZID=Europe/Amsterdam:20260201T150000
DTEND;TZID=Europe/Amsterdam:20260201T190000
DTSTAMP:20260420T092037
CREATED:20260126T135728Z
LAST-MODIFIED:20260126T135728Z
UID:10000128-1769958000-1769972400@wapenvanankeveen.nl
SUMMARY:Jamsessie met Brigitte de Boer
DESCRIPTION:Brigitte de Boer\, verzorgd wederom een Jazz & more Jamsessie waar het niveau weer lekker hoog ligt. Neemt niet weg dat iedereen zich weer kan aanmelden om mee te jammen Jazz & More staat vandaag op het programma.
URL:https://wapenvanankeveen.nl/evenement/jamsessie-met-brigitte-de-boer-6/
LOCATION:Wapen van Ankeveen\, Stichts End 41\, Ankeveen\, Noord-Holland\, 1244 PK\, Nederland
ATTACH;FMTTYPE=image/jpeg:https://wapenvanankeveen.nl/wp-content/uploads/2024/04/Jamsessies-1130x650-1.jpg
END:VEVENT
BEGIN:VEVENT
DTSTART;TZID=Europe/Amsterdam:20260131T190000
DTEND;TZID=Europe/Amsterdam:20260131T190000
DTSTAMP:20260420T092037
CREATED:20260126T135600Z
LAST-MODIFIED:20260126T135946Z
UID:10000127-1769886000-1769886000@wapenvanankeveen.nl
SUMMARY:Deze avond zijn wij helaas gesloten
DESCRIPTION:I.v.m. Besloten feest gesloten
URL:https://wapenvanankeveen.nl/evenement/deze-avond-zijn-wij-helaas-gesloten-2/
LOCATION:Wapen van Ankeveen\, Stichts End 41\, Ankeveen\, Noord-Holland\, 1244 PK\, Nederland
ATTACH;FMTTYPE=image/jpeg:https://wapenvanankeveen.nl/wp-content/uploads/2025/10/Unknown.jpeg
END:VEVENT
BEGIN:VEVENT
DTSTART;TZID=Europe/Amsterdam:20260109T183000
DTEND;TZID=Europe/Amsterdam:20260109T200000
DTSTAMP:20260420T092037
CREATED:20260103T112424Z
LAST-MODIFIED:20260103T112424Z
UID:10000126-1767983400-1767988800@wapenvanankeveen.nl
SUMMARY:Nieuwjaarsborrel Wapen
DESCRIPTION:Lieve mensen.\nDe allerbeste wensen voor het aankomende jaar met veel geluk en het aller belangrijkste een goede gezondheid! \nOm samen te proosten op het nieuwe jaar nodigen wij u graag uit voor onze nieuwjaarsborrel op vrijdag 9 januari van 18:30 tot 20:00 uur. Aansluitend komt Martin Warmerdam gezellig zingen.\nKomt u ook?
URL:https://wapenvanankeveen.nl/evenement/nieuwjaarsborrel-wapen/
LOCATION:Wapen van Ankeveen\, Stichts End 41\, Ankeveen\, Noord-Holland\, 1244 PK\, Nederland
ATTACH;FMTTYPE=image/jpeg:https://wapenvanankeveen.nl/wp-content/uploads/2026/01/Gold-Black-Modern-New-Years-Greetings-Instagram-Post-Presentatie-2-kopie-2.jpg
END:VEVENT
BEGIN:VEVENT
DTSTART;TZID=Europe/Amsterdam:20260104T140000
DTEND;TZID=Europe/Amsterdam:20260104T170000
DTSTAMP:20260420T092037
CREATED:20260103T111857Z
LAST-MODIFIED:20260103T111857Z
UID:10000125-1767535200-1767546000@wapenvanankeveen.nl
SUMMARY:Jamsessie Hearsay
DESCRIPTION:Zondag 4 januari\, voor het eerst in het wapen van Ankeveen\, Jamsessie met Hearsay\, we beginnen om 14:00 uur\, iets vroeger dan je van ons gewend bent maar daarom niet minder leuk! Kom gezellig meedoen of kijk hoe anderen samen muziek maken😃 tot morgen dus!\nWapen van Ankeveen\, Stichts End 41\, Ankeveen.\nParkeren doe je gratis op ca 100 meter van het café op het marktplein naast de kerk.
URL:https://wapenvanankeveen.nl/evenement/jamsessie-hearsay/
LOCATION:Wapen van Ankeveen\, Stichts End 41\, Ankeveen\, Noord-Holland\, 1244 PK\, Nederland
ATTACH;FMTTYPE=image/jpeg:https://wapenvanankeveen.nl/wp-content/uploads/2026/01/84e2e541-d413-4bbd-9ad8-cc148759244d.jpg
END:VEVENT
BEGIN:VEVENT
DTSTART;TZID=Europe/Amsterdam:20251224T170000
DTEND;TZID=Europe/Amsterdam:20251224T233000
DTSTAMP:20260420T092037
CREATED:20251215T163910Z
LAST-MODIFIED:20251215T163910Z
UID:10000124-1766595600-1766619000@wapenvanankeveen.nl
SUMMARY:Boerenkool avond
DESCRIPTION:Traditiegetrouw is er op kerstavond weer een boerenkool aanschuifavond. Aanvang 17:00 uur. Gezelligheid kent geen tijd! \nReserveer wel even jouw plek(jes) op 06-55166565 of 035-6561302
URL:https://wapenvanankeveen.nl/evenement/boerenkool-avond/
LOCATION:Wapen van Ankeveen\, Stichts End 41\, Ankeveen\, Noord-Holland\, 1244 PK\, Nederland
ATTACH;FMTTYPE=application/pdf:https://wapenvanankeveen.nl/wp-content/uploads/2025/12/boerenkool.pdf
END:VEVENT
BEGIN:VEVENT
DTSTART;TZID=Europe/Amsterdam:20251221T150000
DTEND;TZID=Europe/Amsterdam:20251221T190000
DTSTAMP:20260420T092037
CREATED:20251114T074821Z
LAST-MODIFIED:20251114T074827Z
UID:10000122-1766329200-1766343600@wapenvanankeveen.nl
SUMMARY:Jamsessie (Brigitte de Boer
DESCRIPTION:Brigitte de Boer\, verzorgd wederom een Kersteditie Jamsessie waar het niveau weer lekker hoog ligt. Neemt niet weg dat iedereen zich weer kan aanmelden om mee te jammen Jazz & More staan vandaag op het programma. Trek jouw foute kersttrui aan en Jam mee
URL:https://wapenvanankeveen.nl/evenement/jamsessie-brigitte-de-boer/
LOCATION:Wapen van Ankeveen\, Stichts End 41\, Ankeveen\, Noord-Holland\, 1244 PK\, Nederland
ATTACH;FMTTYPE=image/jpeg:https://wapenvanankeveen.nl/wp-content/uploads/2024/04/Jamsessies-1130x650-1.jpg
END:VEVENT
BEGIN:VEVENT
DTSTART;TZID=Europe/Amsterdam:20251213T203000
DTEND;TZID=Europe/Amsterdam:20251214T020000
DTSTAMP:20260420T092037
CREATED:20251116T104558Z
LAST-MODIFIED:20251116T104558Z
UID:10000123-1765657800-1765677600@wapenvanankeveen.nl
SUMMARY:Disco Bingo
DESCRIPTION:Op 13 december organiseren wij weer de Disco bingo! Voor wie de eerdere editie’s niet hebben meegemaakt\, dit is je kans. Een avond vol herkenbare hilarische meezingers\, deze wil je echt niet missen. Aanvang 20:30 tot ? Reserveren kan aan de bar of via 06-55166565 \nDeze wordt wel heel bijzonder\, we verklappen nog niets\, daar moet je zelf achterkomen
URL:https://wapenvanankeveen.nl/evenement/disco-bingo-3/
LOCATION:Wapen van Ankeveen\, Stichts End 41\, Ankeveen\, Noord-Holland\, 1244 PK\, Nederland
ATTACH;FMTTYPE=image/jpeg:https://wapenvanankeveen.nl/wp-content/uploads/2025/11/Pink-and-Black-Disco-Party-Invitation.jpg
END:VEVENT
BEGIN:VEVENT
DTSTART;TZID=Europe/Amsterdam:20251212T203000
DTEND;TZID=Europe/Amsterdam:20251212T203000
DTSTAMP:20260420T092037
CREATED:20251114T074558Z
LAST-MODIFIED:20251114T074626Z
UID:10000121-1765571400-1765571400@wapenvanankeveen.nl
SUMMARY:Kerst Prijsbiljarten
DESCRIPTION:Op 12 december is er weer een editie van het prijsbiljarten en klaverjassen\, inschrijven kan via 035-5651302 of gewoon aan de bar. Deelname\, 5\,- pp Ook is er weer een loterij met allemaal mooie prijzen\, kortom\, dit wordt weer een gezellige avond. \n 
URL:https://wapenvanankeveen.nl/evenement/kerst-prijsbiljarten/
LOCATION:Wapen van Ankeveen\, Stichts End 41\, Ankeveen\, Noord-Holland\, 1244 PK\, Nederland
ATTACH;FMTTYPE=image/jpeg:https://wapenvanankeveen.nl/wp-content/uploads/2025/11/prijsbiljart-2025.jpg
END:VEVENT
BEGIN:VEVENT
DTSTART;TZID=Europe/Amsterdam:20251212T170000
DTEND;TZID=Europe/Amsterdam:20251212T210000
DTSTAMP:20260420T092037
CREATED:20251114T074352Z
LAST-MODIFIED:20251114T074352Z
UID:10000120-1765558800-1765573200@wapenvanankeveen.nl
SUMMARY:Lichtjesmarkt 2025
DESCRIPTION:Ook dit jaar is er weer een lichtjesmarkt op het marktterrein\, compleet met warme chocolademelk\, gluhwein\, bier\, wijn en fris. Aanvang 18:00 uur. Ook staan er weer diverse foodtrucks\, kortom weer een gezellige editie van de lichtjesmarkt.
URL:https://wapenvanankeveen.nl/evenement/lichtjesmarkt-2025/
LOCATION:Wapen van Ankeveen\, Stichts End 41\, Ankeveen\, Noord-Holland\, 1244 PK\, Nederland
ATTACH;FMTTYPE=image/jpeg:https://wapenvanankeveen.nl/wp-content/uploads/2024/11/Scherm­afbeelding-2024-11-15-om-16.52.14.jpg
END:VEVENT
BEGIN:VEVENT
DTSTART;TZID=Europe/Amsterdam:20251128T203000
DTEND;TZID=Europe/Amsterdam:20251128T203000
DTSTAMP:20260420T092037
CREATED:20251114T073515Z
LAST-MODIFIED:20251114T073617Z
UID:10000118-1764361800-1764361800@wapenvanankeveen.nl
SUMMARY:No Sweat!
DESCRIPTION:De band No Sweat neem afscheid van drummer Hans\, dus iedereen die Hans nog een keer wil zien vlammen\, dit is je kans. \nNo Sweat brengt de muziek uit de jaren 70 en 80 weer tot leven
URL:https://wapenvanankeveen.nl/evenement/no-sweat/
LOCATION:Wapen van Ankeveen\, Stichts End 41\, Ankeveen\, Noord-Holland\, 1244 PK\, Nederland
ATTACH;FMTTYPE=image/jpeg:https://wapenvanankeveen.nl/wp-content/uploads/2025/11/PHOTO-2025-11-01-15-30-42.jpg
END:VEVENT
BEGIN:VEVENT
DTSTART;TZID=Europe/Amsterdam:20251122T140000
DTEND;TZID=Europe/Amsterdam:20251122T180000
DTSTAMP:20260420T092037
CREATED:20251114T072101Z
LAST-MODIFIED:20251114T072125Z
UID:10000117-1763820000-1763834400@wapenvanankeveen.nl
SUMMARY:Intocht Sinterklaas
DESCRIPTION:Om 14:00 uur komt sinterklaas weer in ons dorp\, komt hij dit keer weer met de boot? Alle kinderen zullen uit volle borst sinterklaas toezingen. aansluitend gaat sinterklaas naar t Wapen om daar alle kindertjes toe te spreken. Daar kan weer geknutsled worden en onder het genot van een zakje chips\, limonade en natuurlijk heel veel pepernoten wordt het weer een hele leuke dag. Voor de ouders hebben we uiteraard een heerlijke Hertog-Jan of een lekkere Pinot Grigio klaarstaan. Of blijf gezellig eten\, kan natuurlijk ook!
URL:https://wapenvanankeveen.nl/evenement/intocht-sinterklaas-copy/
LOCATION:Wapen van Ankeveen\, Stichts End 41\, Ankeveen\, Noord-Holland\, 1244 PK\, Nederland
ATTACH;FMTTYPE=image/webp:https://wapenvanankeveen.nl/wp-content/uploads/2023/10/sinterklaas-intocht-ankeveen.webp
END:VEVENT
BEGIN:VEVENT
DTSTART;TZID=Europe/Amsterdam:20251116T150000
DTEND;TZID=Europe/Amsterdam:20251116T190000
DTSTAMP:20260420T092037
CREATED:20251113T082407Z
LAST-MODIFIED:20251113T082407Z
UID:10000115-1763305200-1763319600@wapenvanankeveen.nl
SUMMARY:Jamsessie Egbert Reulen
DESCRIPTION:Egbert Reulen\, verzorgd wederom een Jamsessie waar het niveau weer zeer hoog ligt. Neemt niet weg dat iedereen zich weer kan aanmelden om mee te jammen.
URL:https://wapenvanankeveen.nl/evenement/jamsessie-egbert-reulen-4/
LOCATION:Wapen van Ankeveen\, Stichts End 41\, Ankeveen\, Noord-Holland\, 1244 PK\, Nederland
ATTACH;FMTTYPE=image/jpeg:https://wapenvanankeveen.nl/wp-content/uploads/2024/04/Jamsessies-1130x650-1.jpg
END:VEVENT
BEGIN:VEVENT
DTSTART;TZID=Europe/Amsterdam:20251115T203000
DTEND;TZID=Europe/Amsterdam:20251115T235900
DTSTAMP:20260420T092037
CREATED:20260126T140057Z
LAST-MODIFIED:20260126T140057Z
UID:10000130-1763238600-1763251140@wapenvanankeveen.nl
SUMMARY:APT Pokertoernooi
DESCRIPTION:Een laagdrempelig tournooi waar zelfs de beginnende pokeraar  kan meedoen. We zullen ouderwets eens per 3 à 4 weken kunnen gaan pokeren en zo tot de zomer van 2026 een volledig seizoen kunnen gaan spelen! Doe je gezellig een keertje mee? \n  \n  \n 
URL:https://wapenvanankeveen.nl/evenement/apt-pokertoernooi-10/
LOCATION:Wapen van Ankeveen\, Stichts End 41\, Ankeveen\, Noord-Holland\, 1244 PK\, Nederland
ATTACH;FMTTYPE=image/jpeg:https://wapenvanankeveen.nl/wp-content/uploads/2026/01/apresski.jpg
END:VEVENT
BEGIN:VEVENT
DTSTART;TZID=Europe/Amsterdam:20251115T203000
DTEND;TZID=Europe/Amsterdam:20251115T235900
DTSTAMP:20260420T092037
CREATED:20251114T071326Z
LAST-MODIFIED:20251114T071326Z
UID:10000116-1763238600-1763251140@wapenvanankeveen.nl
SUMMARY:APT Pokertoernooi
DESCRIPTION:Een laagdrempelig tournooi waar zelfs de beginnende pokeraar  kan meedoen. We zullen ouderwets eens per 3 à 4 weken kunnen gaan pokeren en zo tot de zomer van 2026 een volledig seizoen kunnen gaan spelen! Doe je gezellig een keertje mee? \n  \n  \n 
URL:https://wapenvanankeveen.nl/evenement/apt-pokertoernooi-9/
LOCATION:Wapen van Ankeveen\, Stichts End 41\, Ankeveen\, Noord-Holland\, 1244 PK\, Nederland
ATTACH;FMTTYPE=image/jpeg:https://wapenvanankeveen.nl/wp-content/uploads/2025/11/apt-ok.jpg
END:VEVENT
BEGIN:VEVENT
DTSTART;TZID=Europe/Amsterdam:20251031T200000
DTEND;TZID=Europe/Amsterdam:20251031T200000
DTSTAMP:20260420T092037
CREATED:20251023T070134Z
LAST-MODIFIED:20251023T071459Z
UID:10000114-1761940800-1761940800@wapenvanankeveen.nl
SUMMARY:Halloween
DESCRIPTION:Dit jaar vieren wij in samenwerking met de scheve schaats Halloween. Denk aan enge shotjes en een griezelig interieur. Zoals altijd belonen wij de meest scary outfit met een doos Flugels. Dus eerst een hapje eten bij de schaats om daarna\, trillend van angst naar het Wapen te gaan.
URL:https://wapenvanankeveen.nl/evenement/halloween/
LOCATION:Wapen van Ankeveen\, Stichts End 41\, Ankeveen\, Noord-Holland\, 1244 PK\, Nederland
ATTACH;FMTTYPE=image/png:https://wapenvanankeveen.nl/wp-content/uploads/2025/10/D66ED739-E7DA-4D91-8D4B-4188DECFDF0B.png
END:VEVENT
BEGIN:VEVENT
DTSTART;TZID=Europe/Amsterdam:20251026T150000
DTEND;TZID=Europe/Amsterdam:20251026T190000
DTSTAMP:20260420T092037
CREATED:20251023T064836Z
LAST-MODIFIED:20251023T064836Z
UID:10000113-1761490800-1761505200@wapenvanankeveen.nl
SUMMARY:Wil & Friends
DESCRIPTION:Aanstaande zondag 26 okt vanaf 15.00 uur Wil & Friends in het Wapen van Ankeveen. Zoals velen van jullie wel weten laat de gezondheid van Wil te wensen over. Wil stopt na de 26e met openbare optredens. Het is de bedoeling dat het een vrolijk afscheid wordt met zoveel mogelijk al dan niet muzikale vrienden. Wil zal het eerste uur van de sessie zelf verzorgen met een aantal muzikanten daarna is er gelegenheid om te jammen. We hopen jullie daar te treffen.
URL:https://wapenvanankeveen.nl/evenement/wil-friends/
LOCATION:Wapen van Ankeveen\, Stichts End 41\, Ankeveen\, Noord-Holland\, 1244 PK\, Nederland
ATTACH;FMTTYPE=image/jpeg:https://wapenvanankeveen.nl/wp-content/uploads/2025/10/Unknown-1.jpeg
END:VEVENT
BEGIN:VEVENT
DTSTART;TZID=Europe/Amsterdam:20251025T190000
DTEND;TZID=Europe/Amsterdam:20251025T190000
DTSTAMP:20260420T092037
CREATED:20251023T063433Z
LAST-MODIFIED:20251023T064331Z
UID:10000112-1761418800-1761418800@wapenvanankeveen.nl
SUMMARY:Deze avond zijn wij helaas gesloten
DESCRIPTION:I.v.m. Besloten feest gesloten
URL:https://wapenvanankeveen.nl/evenement/deze-avond-zijn-wij-helaas-gesloten/
LOCATION:Wapen van Ankeveen\, Stichts End 41\, Ankeveen\, Noord-Holland\, 1244 PK\, Nederland
ATTACH;FMTTYPE=image/jpeg:https://wapenvanankeveen.nl/wp-content/uploads/2025/10/Unknown.jpeg
END:VEVENT
BEGIN:VEVENT
DTSTART;TZID=Europe/Amsterdam:20251019T150000
DTEND;TZID=Europe/Amsterdam:20251019T190000
DTSTAMP:20260420T092037
CREATED:20250819T072523Z
LAST-MODIFIED:20250819T072523Z
UID:10000108-1760886000-1760900400@wapenvanankeveen.nl
SUMMARY:Jamsessie met Brigitte de Boer
DESCRIPTION:Ongeëvenaarde Jam olv Brigitte de Boer. Deze Jazz & More Jamsessie is zeer is trek bij de liefhebber.
URL:https://wapenvanankeveen.nl/evenement/jamsessie-met-brigitte-de-boer-5/
LOCATION:Wapen van Ankeveen\, Stichts End 41\, Ankeveen\, Noord-Holland\, 1244 PK\, Nederland
ATTACH;FMTTYPE=image/jpeg:https://wapenvanankeveen.nl/wp-content/uploads/2024/04/Jamsessies-1130x650-1.jpg
END:VEVENT
BEGIN:VEVENT
DTSTART;TZID=Europe/Amsterdam:20251010T190000
DTEND;TZID=Europe/Amsterdam:20251012T200000
DTSTAMP:20260420T092037
CREATED:20250829T072324Z
LAST-MODIFIED:20250829T072324Z
UID:10000111-1760122800-1760299200@wapenvanankeveen.nl
SUMMARY:Ankeveense kermis 2025
DESCRIPTION:Ook fit jaar staat het Wapen weer met de feesttent op de markt. We hebben ee zeer gevarieerd programma voor jullie in petto. Vrijdag avond speelt de Ankeveense All Stars band de sterren van de hemel. Zaterdag hebben we een traditionele Oktoberfest met oa Dj Eric C. Daniel Lippens en Oktoberfest zanger Martin Wiliams. Zondag  wordt het weer een Amsterdamse middag met Martin Warmerdam en Christiaan Welker. Reden genoeg om maandag een dagje vrij te nemen.
URL:https://wapenvanankeveen.nl/evenement/ankeveense-kermis-2025/
LOCATION:Wapen van Ankeveen\, Stichts End 41\, Ankeveen\, Noord-Holland\, 1244 PK\, Nederland
ATTACH;FMTTYPE=image/jpeg:https://wapenvanankeveen.nl/wp-content/uploads/2025/08/kermis-2025.jpg
END:VEVENT
BEGIN:VEVENT
DTSTART;VALUE=DATE:20251010
DTEND;VALUE=DATE:20251014
DTSTAMP:20260420T092037
CREATED:20251019T073440Z
LAST-MODIFIED:20250829T065755Z
UID:10000109-1760079600-1760338799@wapenvanankeveen.nl
SUMMARY:Kermis Ankeveen 2025
DESCRIPTION:Het jaarlijkse kermisfestival staat weer voor de deur. \nVrijdagavond: Coverband Ankeveense All Stars \nZaterdagavond: Oktoberfest met Daniël Lippens\, DJ Eric C. en een optreden van Martin Williams \nZondagmiddag: Familiedag met live optredens van Martin Warmerdam en Christiaan Welker
URL:https://wapenvanankeveen.nl/evenement/kermis-ankeveen-copy/
LOCATION:Wapen van Ankeveen\, Stichts End 41\, Ankeveen\, Noord-Holland\, 1244 PK\, Nederland
ATTACH;FMTTYPE=image/jpeg:https://wapenvanankeveen.nl/wp-content/uploads/2025/08/kermis-2025.jpg
END:VEVENT
END:VCALENDAR