BEGIN:VCALENDAR
VERSION:2.0
PRODID:-//Wapen van Ankeveen - ECPv6.15.20//NONSGML v1.0//EN
CALSCALE:GREGORIAN
METHOD:PUBLISH
X-WR-CALNAME:Wapen van Ankeveen
X-ORIGINAL-URL:https://wapenvanankeveen.nl
X-WR-CALDESC:Evenementen voor Wapen van Ankeveen
REFRESH-INTERVAL;VALUE=DURATION:PT1H
X-Robots-Tag:noindex
X-PUBLISHED-TTL:PT1H
BEGIN:VTIMEZONE
TZID:Europe/Amsterdam
BEGIN:DAYLIGHT
TZOFFSETFROM:+0100
TZOFFSETTO:+0200
TZNAME:CEST
DTSTART:20250330T010000
END:DAYLIGHT
BEGIN:STANDARD
TZOFFSETFROM:+0200
TZOFFSETTO:+0100
TZNAME:CET
DTSTART:20251026T010000
END:STANDARD
BEGIN:DAYLIGHT
TZOFFSETFROM:+0100
TZOFFSETTO:+0200
TZNAME:CEST
DTSTART:20260329T010000
END:DAYLIGHT
BEGIN:STANDARD
TZOFFSETFROM:+0200
TZOFFSETTO:+0100
TZNAME:CET
DTSTART:20261025T010000
END:STANDARD
BEGIN:DAYLIGHT
TZOFFSETFROM:+0100
TZOFFSETTO:+0200
TZNAME:CEST
DTSTART:20270328T010000
END:DAYLIGHT
BEGIN:STANDARD
TZOFFSETFROM:+0200
TZOFFSETTO:+0100
TZNAME:CET
DTSTART:20271031T010000
END:STANDARD
END:VTIMEZONE
BEGIN:VEVENT
DTSTART;TZID=Europe/Amsterdam:20260426T180000
DTEND;TZID=Europe/Amsterdam:20260426T233000
DTSTAMP:20260420T072409
CREATED:20260419T185923Z
LAST-MODIFIED:20260419T185923Z
UID:10000152-1777226400-1777246200@wapenvanankeveen.nl
SUMMARY:Ronde van Ankeveen
DESCRIPTION:De ronde van Ankeveen op Koningsnacht bij t Wapen van Ankeveen. Stichting Sofa organiseert ook dit jaar weer de prestigieuze run van Ankeveen. Vorig jaar\, de eerste editie in deze vorm was een geweldig succes en daar gaan we natuurlijk weer voor. Kinderen lopen de 1 km (tot 12 jaar gratis) de volwassen en kinderen vanaf 12 jaar kunnen kiezen uit de afstanden 6\,3 km en de 10 km. Meedoen? schrijf je nog even  snel in op: www.inschrijven.nl \nAfterparty in het Wapen vanaf 21:00 uur met DJ Cobus\, dat wordt nog even een groot koningsnacht feest
URL:https://wapenvanankeveen.nl/evenement/ronde-van-ankeveen/
LOCATION:Wapen van Ankeveen\, Stichts End 41\, Ankeveen\, Noord-Holland\, 1244 PK\, Nederland
ATTACH;FMTTYPE=image/jpeg:https://wapenvanankeveen.nl/wp-content/uploads/2026/04/WhatsApp-Image-2026-04-19-at-20.36.50.jpeg
END:VEVENT
BEGIN:VEVENT
DTSTART;TZID=Europe/Amsterdam:20260427T180000
DTEND;TZID=Europe/Amsterdam:20260427T233000
DTSTAMP:20260420T072409
CREATED:20250417T064644Z
LAST-MODIFIED:20260419T182613Z
UID:10000089-1777312800-1777332600@wapenvanankeveen.nl
SUMMARY:Koningsdag 2026
DESCRIPTION:Op koningsdag hebben we weer Reddeloos verloren weten te strikken. Deze fantastische band begint om 18:00 uur met de leukste gouwe ouwe covers. Zin in een sateetje of broodje braadworst? rechtstreeks van de bbq\, lekker even voor de vette trek.
URL:https://wapenvanankeveen.nl/evenement/koningsdag-2025/
LOCATION:Wapen van Ankeveen\, Stichts End 41\, Ankeveen\, Noord-Holland\, 1244 PK\, Nederland
ATTACH;FMTTYPE=image/jpeg:https://wapenvanankeveen.nl/wp-content/uploads/2026/04/White-Gold-Kings-Day-Koningsdag-Instagram-Post.jpg
END:VEVENT
BEGIN:VEVENT
DTSTART;TZID=Europe/Amsterdam:20260503T150000
DTEND;TZID=Europe/Amsterdam:20260503T190000
DTSTAMP:20260420T072409
CREATED:20260329T143915Z
LAST-MODIFIED:20260329T143915Z
UID:10000149-1777820400-1777834800@wapenvanankeveen.nl
SUMMARY:Jamsessie Hearsay
DESCRIPTION:Jamsessie met Hearsay\, we beginnen om 15:00 uur\, Kom gezellig meedoen of kijk hoe anderen samen muziek maken😃\nWapen van Ankeveen\, Stichts End 41\, Ankeveen.\nParkeren doe je gratis op ca 100 meter van het café op het marktplein naast de kerk.
URL:https://wapenvanankeveen.nl/evenement/jamsessie-hearsay-3/
LOCATION:Wapen van Ankeveen\, Stichts End 41\, Ankeveen\, Noord-Holland\, 1244 PK\, Nederland
ATTACH;FMTTYPE=image/jpeg:https://wapenvanankeveen.nl/wp-content/uploads/2026/01/84e2e541-d413-4bbd-9ad8-cc148759244d.jpg
END:VEVENT
BEGIN:VEVENT
DTSTART;TZID=Europe/Amsterdam:20260516T190000
DTEND;TZID=Europe/Amsterdam:20260516T190000
DTSTAMP:20260420T072409
CREATED:20260126T141535Z
LAST-MODIFIED:20260128T152108Z
UID:10000135-1778958000-1778958000@wapenvanankeveen.nl
SUMMARY:Jam reunie Paul & Michelle (die twee)
DESCRIPTION:Een uniek evenement waarbij Paul & Michelle nog 1 x vlammen achter de bar. Tout Jamm Nederland is hierbij aanwezig. Dit beloofd een topevenement te worden. Toegang is gratis
URL:https://wapenvanankeveen.nl/evenement/jam-reunie-paul-michelle-die-twee/
LOCATION:Wapen van Ankeveen\, Stichts End 41\, Ankeveen\, Noord-Holland\, 1244 PK\, Nederland
ATTACH;FMTTYPE=image/jpeg:https://wapenvanankeveen.nl/wp-content/uploads/2026/01/IMG_4699.jpg
END:VEVENT
BEGIN:VEVENT
DTSTART;TZID=Europe/Amsterdam:20260612T200000
DTEND;TZID=Europe/Amsterdam:20260612T200000
DTSTAMP:20260420T072409
CREATED:20260329T144341Z
LAST-MODIFIED:20260329T144614Z
UID:10000150-1781294400-1781294400@wapenvanankeveen.nl
SUMMARY:Bolkampioenschappen
DESCRIPTION:Eindelijk is het weer zover!\nWe gaan Bollen in het wapen van Ankeveen.\nGeef je snel op\, deelname 5\,- pp.\nJe krijgt een super gezellige avond en maakt ook nog eens kans op mooie prijzen maar dan moet je wel je best doen.\nVrijdag 12 juni aanvang 20:00 uur. \n  \nSpelregels bollen \nDe speler die begint met delen start met het uitdelen van 1 kaart aan iedere speler. Tot slot legt hij 1 kaart open op tafel neer. Dit is de troef. Als hier dus een harten kaart komt te liggen\, is de troef harten. \nDe speler die na diegene komt die gedeeld heeft\, mag zeggen hoeveel slagen hij denkt te gaan halen. Bij één kaart kun je dus kiezen voor het halen van 1 slag\, of geen enkele slag. Natuurlijk is het handig om te weten hoe je een slag haalt. Een slag kun je halen door de hoogte kaart te hebben van een bepaalde soort\, of door de hoogste troef uit te spelen. Let op: je moet wel altijd bekennen. Als er uit wordt gespeeld met schoppen\, dan mag jij alleen schoppen gooien. Alleen wanneer je geen schoppen hebt\, mag je een andere kaart spelen. \nIedere speler noemt dus het aantal slagen op dat hij denkt te gaan halen. Dit aantal slagen schrijf je op bij de naam van die speler op je briefje. Ben je dus bij de ‘1’ (waarbij je dus 1 kaart uitdeelt)\, dan schrijf je achter dit getal in de kolom van elke speler hoeveel slagen hij denkt te gaan halen. \nAls een speler het aantal slagen goed voorspelt heeft\, krijgt hij 10 bonuspunten. Als een speler het fout voorspelt heeft\, verander je de voorspelde score in een bolletje. Dus ook wanneer een speler 3 slagen voorspelt\, maar er 4 haalt\, krijgt hij 0 punten en wordt de 3 in een bolletje veranderd. \nVervolgens is de ronde af en ga je over naar ‘2’. Er worden twee kaarten uitgedeeld aan iedere speler. Er wordt ook weer opnieuw voorspelt. Zo gaat het spel door tot de 6. De eerste 6 wordt normaal gespeeld. De tweede 6 wordt gespeeld zonder troef. Hierbij geldt dus: de hoogste kaart wint. Vervolgens wordt er nogmaals een ronde met 6 kaarten gespeeld\, maar dan weer normaal met troef.
URL:https://wapenvanankeveen.nl/evenement/bolkampioenschappen/
LOCATION:Wapen van Ankeveen\, Stichts End 41\, Ankeveen\, Noord-Holland\, 1244 PK\, Nederland
ATTACH;FMTTYPE=image/png:https://wapenvanankeveen.nl/wp-content/uploads/2026/03/ChatGPT-Image-29-mrt-2026-16_43_00.png
END:VEVENT
BEGIN:VEVENT
DTSTART;TZID=Europe/Amsterdam:20260614T210000
DTEND;TZID=Europe/Amsterdam:20260614T210000
DTSTAMP:20260420T072409
CREATED:20260130T105749Z
LAST-MODIFIED:20260130T105842Z
UID:10000145-1781470800-1781470800@wapenvanankeveen.nl
SUMMARY:WK 2026 1e Groepsfase Nederland - Japan
DESCRIPTION:De allereerste wedstrijd van het Nederlands elftal is tegen Japan. \nUiteraard pakken we ook dit WK weer vol uit! Zoals je van ons gewend bent veranderd de kroeg in een oranje oase en nog veel belangrijker\, alle wedstrijden zenden we uit op een mega scherm van 6 meter! op super HD 4K kwaliteit met Dolby surroundgeluid. Tijdens het WK hebben we diverse actie’s lopen en uiteraard kan je meedoen in diverse blinde poolen. Met z’n allen gaan we hier weer een groot feest van maken.
URL:https://wapenvanankeveen.nl/evenement/wk-2026-1e-groepsfase-nederland-japan/
LOCATION:Wapen van Ankeveen\, Stichts End 41\, Ankeveen\, Noord-Holland\, 1244 PK\, Nederland
ATTACH;FMTTYPE=image/jpeg:https://wapenvanankeveen.nl/wp-content/uploads/2026/01/selectie-2026.jpeg
END:VEVENT
BEGIN:VEVENT
DTSTART;TZID=Europe/Amsterdam:20260620T180000
DTEND;TZID=Europe/Amsterdam:20260620T180000
DTSTAMP:20260420T072409
CREATED:20260130T110446Z
LAST-MODIFIED:20260130T110450Z
UID:10000148-1781978400-1781978400@wapenvanankeveen.nl
SUMMARY:WK 2026 2e Groepsfase  Nederland - N.T.B.
DESCRIPTION:De tweede wedstrijd van het Nederlands elftal is tegen nog te bepalen. \nUiteraard pakken we ook dit WK weer vol uit! Zoals je van ons gewend bent veranderd de kroeg in een oranje oase en nog veel belangrijker\, alle wedstrijden zenden we uit op een mega scherm van 6 meter! op super HD 4K kwaliteit met Dolby surroundgeluid. Tijdens het WK hebben we diverse actie’s lopen en uiteraard kan je meedoen in diverse blinde poolen. Met z’n allen gaan we hier weer een groot feest van maken.
URL:https://wapenvanankeveen.nl/evenement/wk-2026-2e-groepsfase-nederland-n-t-b/
LOCATION:Wapen van Ankeveen\, Stichts End 41\, Ankeveen\, Noord-Holland\, 1244 PK\, Nederland
ATTACH;FMTTYPE=image/jpeg:https://wapenvanankeveen.nl/wp-content/uploads/2026/01/selectie-2026.jpeg
END:VEVENT
BEGIN:VEVENT
DTSTART;TZID=Europe/Amsterdam:20260626T000000
DTEND;TZID=Europe/Amsterdam:20260626T050000
DTSTAMP:20260420T072409
CREATED:20260130T110309Z
LAST-MODIFIED:20260130T110319Z
UID:10000146-1782432000-1782450000@wapenvanankeveen.nl
SUMMARY:WK 2026 3e Groepsfase Tunesië - Nederland
DESCRIPTION:De derde wedstrijd van het Nederlands elftal is tegen Tunesië. \nUiteraard pakken we ook dit WK weer vol uit! Zoals je van ons gewend bent veranderd de kroeg in een oranje oase en nog veel belangrijker\, alle wedstrijden zenden we uit op een mega scherm van 6 meter! op super HD 4K kwaliteit met Dolby surroundgeluid. Tijdens het WK hebben we diverse actie’s lopen en uiteraard kan je meedoen in diverse blinde poolen. Met z’n allen gaan we hier weer een groot feest van maken.
URL:https://wapenvanankeveen.nl/evenement/wk-2026-3e-groepsfase-tunesie-nederland/
LOCATION:Wapen van Ankeveen\, Stichts End 41\, Ankeveen\, Noord-Holland\, 1244 PK\, Nederland
ATTACH;FMTTYPE=image/jpeg:https://wapenvanankeveen.nl/wp-content/uploads/2026/01/selectie-2026.jpeg
END:VEVENT
END:VCALENDAR