BEGIN:VCALENDAR
VERSION:2.0
PRODID:-//Wapen van Ankeveen - ECPv6.15.20//NONSGML v1.0//EN
CALSCALE:GREGORIAN
METHOD:PUBLISH
X-ORIGINAL-URL:https://wapenvanankeveen.nl
X-WR-CALDESC:Evenementen voor Wapen van Ankeveen
REFRESH-INTERVAL;VALUE=DURATION:PT1H
X-Robots-Tag:noindex
X-PUBLISHED-TTL:PT1H
BEGIN:VTIMEZONE
TZID:Europe/Amsterdam
BEGIN:DAYLIGHT
TZOFFSETFROM:+0100
TZOFFSETTO:+0200
TZNAME:CEST
DTSTART:20240331T010000
END:DAYLIGHT
BEGIN:STANDARD
TZOFFSETFROM:+0200
TZOFFSETTO:+0100
TZNAME:CET
DTSTART:20241027T010000
END:STANDARD
BEGIN:DAYLIGHT
TZOFFSETFROM:+0100
TZOFFSETTO:+0200
TZNAME:CEST
DTSTART:20250330T010000
END:DAYLIGHT
BEGIN:STANDARD
TZOFFSETFROM:+0200
TZOFFSETTO:+0100
TZNAME:CET
DTSTART:20251026T010000
END:STANDARD
BEGIN:DAYLIGHT
TZOFFSETFROM:+0100
TZOFFSETTO:+0200
TZNAME:CEST
DTSTART:20260329T010000
END:DAYLIGHT
BEGIN:STANDARD
TZOFFSETFROM:+0200
TZOFFSETTO:+0100
TZNAME:CET
DTSTART:20261025T010000
END:STANDARD
END:VTIMEZONE
BEGIN:VEVENT
DTSTART;TZID=Europe/Amsterdam:20251031T200000
DTEND;TZID=Europe/Amsterdam:20251031T200000
DTSTAMP:20260422T110810
CREATED:20251023T070134Z
LAST-MODIFIED:20251023T071459Z
UID:10000114-1761940800-1761940800@wapenvanankeveen.nl
SUMMARY:Halloween
DESCRIPTION:Dit jaar vieren wij in samenwerking met de scheve schaats Halloween. Denk aan enge shotjes en een griezelig interieur. Zoals altijd belonen wij de meest scary outfit met een doos Flugels. Dus eerst een hapje eten bij de schaats om daarna\, trillend van angst naar het Wapen te gaan.
URL:https://wapenvanankeveen.nl/evenement/halloween/
LOCATION:Wapen van Ankeveen\, Stichts End 41\, Ankeveen\, Noord-Holland\, 1244 PK\, Nederland
ATTACH;FMTTYPE=image/png:https://wapenvanankeveen.nl/wp-content/uploads/2025/10/D66ED739-E7DA-4D91-8D4B-4188DECFDF0B.png
END:VEVENT
BEGIN:VEVENT
DTSTART;TZID=Europe/Amsterdam:20251026T150000
DTEND;TZID=Europe/Amsterdam:20251026T190000
DTSTAMP:20260422T110810
CREATED:20251023T064836Z
LAST-MODIFIED:20251023T064836Z
UID:10000113-1761490800-1761505200@wapenvanankeveen.nl
SUMMARY:Wil & Friends
DESCRIPTION:Aanstaande zondag 26 okt vanaf 15.00 uur Wil & Friends in het Wapen van Ankeveen. Zoals velen van jullie wel weten laat de gezondheid van Wil te wensen over. Wil stopt na de 26e met openbare optredens. Het is de bedoeling dat het een vrolijk afscheid wordt met zoveel mogelijk al dan niet muzikale vrienden. Wil zal het eerste uur van de sessie zelf verzorgen met een aantal muzikanten daarna is er gelegenheid om te jammen. We hopen jullie daar te treffen.
URL:https://wapenvanankeveen.nl/evenement/wil-friends/
LOCATION:Wapen van Ankeveen\, Stichts End 41\, Ankeveen\, Noord-Holland\, 1244 PK\, Nederland
ATTACH;FMTTYPE=image/jpeg:https://wapenvanankeveen.nl/wp-content/uploads/2025/10/Unknown-1.jpeg
END:VEVENT
BEGIN:VEVENT
DTSTART;TZID=Europe/Amsterdam:20251025T190000
DTEND;TZID=Europe/Amsterdam:20251025T190000
DTSTAMP:20260422T110810
CREATED:20251023T063433Z
LAST-MODIFIED:20251023T064331Z
UID:10000112-1761418800-1761418800@wapenvanankeveen.nl
SUMMARY:Deze avond zijn wij helaas gesloten
DESCRIPTION:I.v.m. Besloten feest gesloten
URL:https://wapenvanankeveen.nl/evenement/deze-avond-zijn-wij-helaas-gesloten/
LOCATION:Wapen van Ankeveen\, Stichts End 41\, Ankeveen\, Noord-Holland\, 1244 PK\, Nederland
ATTACH;FMTTYPE=image/jpeg:https://wapenvanankeveen.nl/wp-content/uploads/2025/10/Unknown.jpeg
END:VEVENT
BEGIN:VEVENT
DTSTART;TZID=Europe/Amsterdam:20251019T150000
DTEND;TZID=Europe/Amsterdam:20251019T190000
DTSTAMP:20260422T110810
CREATED:20250819T072523Z
LAST-MODIFIED:20250819T072523Z
UID:10000108-1760886000-1760900400@wapenvanankeveen.nl
SUMMARY:Jamsessie met Brigitte de Boer
DESCRIPTION:Ongeëvenaarde Jam olv Brigitte de Boer. Deze Jazz & More Jamsessie is zeer is trek bij de liefhebber.
URL:https://wapenvanankeveen.nl/evenement/jamsessie-met-brigitte-de-boer-5/
LOCATION:Wapen van Ankeveen\, Stichts End 41\, Ankeveen\, Noord-Holland\, 1244 PK\, Nederland
ATTACH;FMTTYPE=image/jpeg:https://wapenvanankeveen.nl/wp-content/uploads/2024/04/Jamsessies-1130x650-1.jpg
END:VEVENT
BEGIN:VEVENT
DTSTART;TZID=Europe/Amsterdam:20251010T190000
DTEND;TZID=Europe/Amsterdam:20251012T200000
DTSTAMP:20260422T110810
CREATED:20250829T072324Z
LAST-MODIFIED:20250829T072324Z
UID:10000111-1760122800-1760299200@wapenvanankeveen.nl
SUMMARY:Ankeveense kermis 2025
DESCRIPTION:Ook fit jaar staat het Wapen weer met de feesttent op de markt. We hebben ee zeer gevarieerd programma voor jullie in petto. Vrijdag avond speelt de Ankeveense All Stars band de sterren van de hemel. Zaterdag hebben we een traditionele Oktoberfest met oa Dj Eric C. Daniel Lippens en Oktoberfest zanger Martin Wiliams. Zondag  wordt het weer een Amsterdamse middag met Martin Warmerdam en Christiaan Welker. Reden genoeg om maandag een dagje vrij te nemen.
URL:https://wapenvanankeveen.nl/evenement/ankeveense-kermis-2025/
LOCATION:Wapen van Ankeveen\, Stichts End 41\, Ankeveen\, Noord-Holland\, 1244 PK\, Nederland
ATTACH;FMTTYPE=image/jpeg:https://wapenvanankeveen.nl/wp-content/uploads/2025/08/kermis-2025.jpg
END:VEVENT
BEGIN:VEVENT
DTSTART;VALUE=DATE:20251010
DTEND;VALUE=DATE:20251014
DTSTAMP:20260422T110810
CREATED:20251019T073440Z
LAST-MODIFIED:20250829T065755Z
UID:10000109-1760079600-1760338799@wapenvanankeveen.nl
SUMMARY:Kermis Ankeveen 2025
DESCRIPTION:Het jaarlijkse kermisfestival staat weer voor de deur. \nVrijdagavond: Coverband Ankeveense All Stars \nZaterdagavond: Oktoberfest met Daniël Lippens\, DJ Eric C. en een optreden van Martin Williams \nZondagmiddag: Familiedag met live optredens van Martin Warmerdam en Christiaan Welker
URL:https://wapenvanankeveen.nl/evenement/kermis-ankeveen-copy/
LOCATION:Wapen van Ankeveen\, Stichts End 41\, Ankeveen\, Noord-Holland\, 1244 PK\, Nederland
ATTACH;FMTTYPE=image/jpeg:https://wapenvanankeveen.nl/wp-content/uploads/2025/08/kermis-2025.jpg
END:VEVENT
BEGIN:VEVENT
DTSTART;TZID=Europe/Amsterdam:20250927T203000
DTEND;TZID=Europe/Amsterdam:20250928T020000
DTSTAMP:20260422T110810
CREATED:20250819T072359Z
LAST-MODIFIED:20250819T072359Z
UID:10000107-1759005000-1759024800@wapenvanankeveen.nl
SUMMARY:Wesley Ponsen & Friends
DESCRIPTION:Zaterdag 27 september Hebben we een uniek samenwerkingsverband met de bekende zanger Wesley Ponsen. Op dit avondvullend programma kan je Wesley zien en horen zingen waaronder zijn nieuwste single “Ik kan per niet peilen”\, tevens zullen vrienden van Wesley de avond opluisteren met leuke meezingers. Aanvang 20:30 uur. Oja\, Niels is dan ook nog een keer jarig…
URL:https://wapenvanankeveen.nl/evenement/wesley-ponsen-friends/
LOCATION:Wapen van Ankeveen\, Stichts End 41\, Ankeveen\, Noord-Holland\, 1244 PK\, Nederland
ATTACH;FMTTYPE=image/jpeg:https://wapenvanankeveen.nl/wp-content/uploads/2025/08/PHOTO-2025-08-19-09-23-11.jpg
END:VEVENT
BEGIN:VEVENT
DTSTART;TZID=Europe/Amsterdam:20250921T150000
DTEND;TZID=Europe/Amsterdam:20250921T190000
DTSTAMP:20260422T110810
CREATED:20250819T071520Z
LAST-MODIFIED:20250819T071520Z
UID:10000106-1758466800-1758481200@wapenvanankeveen.nl
SUMMARY:Jamsessie Egbert Reulen
DESCRIPTION:Egbert Reulen\, verzorgd wederom een Jamsessie waar het niveau weer zeer hoog ligt. Neemt niet weg dat iedereen zich weer kan aanmelden om mee te jammen.
URL:https://wapenvanankeveen.nl/evenement/jamsessie-egbert-reulen-3/
LOCATION:Wapen van Ankeveen\, Stichts End 41\, Ankeveen\, Noord-Holland\, 1244 PK\, Nederland
ATTACH;FMTTYPE=image/jpeg:https://wapenvanankeveen.nl/wp-content/uploads/2024/04/Jamsessies-1130x650-1.jpg
END:VEVENT
BEGIN:VEVENT
DTSTART;TZID=Europe/Amsterdam:20250907T130000
DTEND;TZID=Europe/Amsterdam:20250907T210000
DTSTAMP:20260422T110810
CREATED:20250819T071322Z
LAST-MODIFIED:20250819T071322Z
UID:10000105-1757250000-1757278800@wapenvanankeveen.nl
SUMMARY:Jan Neijssen Openings tournooi seizoen 25/26
DESCRIPTION:Op zondag 7 september wordt traditiegetrouw het biljartseizoen geopend. Sinds jaar en dag vindt het”Jan Neijssen” toernooi plaats\, kom lekker kijken en geniet van mooie partijen
URL:https://wapenvanankeveen.nl/evenement/jan-neijssen-openings-tournooi-seizoen-25-26/
LOCATION:Wapen van Ankeveen\, Stichts End 41\, Ankeveen\, Noord-Holland\, 1244 PK\, Nederland
ATTACH;FMTTYPE=image/jpeg:https://wapenvanankeveen.nl/wp-content/uploads/2024/07/Unknown.jpeg
END:VEVENT
BEGIN:VEVENT
DTSTART;TZID=Europe/Amsterdam:20250906T203000
DTEND;TZID=Europe/Amsterdam:20250906T235900
DTSTAMP:20260422T110810
CREATED:20240802T090914Z
LAST-MODIFIED:20250829T071251Z
UID:10000067-1757190600-1757203140@wapenvanankeveen.nl
SUMMARY:APT Pokertoernooi
DESCRIPTION:Op 6 september beginnen we voor de 13e! keer het Ankeveens poker toernooi (APT) Een laagdrempelig tournooi waar zelfs de beginnende pokeraar  kan meedoen. We zullen ouderwets eens per 3 à 4 weken kunnen gaan pokeren en zo tot de zomer van 2026 een volledig seizoen kunnen gaan spelen! Doe je gezellig een keertje mee? \n  \n  \n 
URL:https://wapenvanankeveen.nl/evenement/apt-pokertoernooi-8/
LOCATION:Wapen van Ankeveen\, Stichts End 41\, Ankeveen\, Noord-Holland\, 1244 PK\, Nederland
END:VEVENT
BEGIN:VEVENT
DTSTART;TZID=Europe/Amsterdam:20250904T203000
DTEND;TZID=Europe/Amsterdam:20250904T233000
DTSTAMP:20260422T110810
CREATED:20250613T130331Z
LAST-MODIFIED:20250613T130331Z
UID:10000104-1757017800-1757028600@wapenvanankeveen.nl
SUMMARY:10 over rood
DESCRIPTION:Vandaag spelen we weer 10 over rood\, een leuke competitie waar iedereen kan meedoen. Het spel is heel simpel. Iedereen stoot met dezelfde witte bal en de bedoeling is dat je eerst de rode bal raakt en daarna de andere witte bal. Doe je dat\, dan heb je weer een punt. De betere spelers moeten meer punten maken dan de beginnende spelers. Kortom een gezellige avond waar niet alleen het biljarten centraal staat maar zeker op de gezelligheid. Inleg 2\,- deze inleg wordt aan het einde van het seizoen geschonken aan een lokaal goed doel.
URL:https://wapenvanankeveen.nl/evenement/10-over-rood-9/
LOCATION:Wapen van Ankeveen\, Stichts End 41\, Ankeveen\, Noord-Holland\, 1244 PK\, Nederland
ATTACH;FMTTYPE=image/jpeg:https://wapenvanankeveen.nl/wp-content/uploads/2024/07/Unknown-1.jpeg
END:VEVENT
BEGIN:VEVENT
DTSTART;TZID=Europe/Amsterdam:20250831T190000
DTEND;TZID=Europe/Amsterdam:20250831T233000
DTSTAMP:20260422T110810
CREATED:20250613T130255Z
LAST-MODIFIED:20250613T130255Z
UID:10000103-1756666800-1756683000@wapenvanankeveen.nl
SUMMARY:ONK Pokerkampioenschap
DESCRIPTION:Voor de 4e keer organiseert ONK Poker een fantastisch poker evenement. De hele kroeg wordt omgebouwd tot een grote pokerroom. Dit keer opa een zondagmiddag\, neem in de pauze onze heerlijke pokerhap voor slechts 15\,- \n 
URL:https://wapenvanankeveen.nl/evenement/onk-pokerkampioenschap-2/
LOCATION:Wapen van Ankeveen\, Stichts End 41\, Ankeveen\, Noord-Holland\, 1244 PK\, Nederland
ATTACH;FMTTYPE=image/png:https://wapenvanankeveen.nl/wp-content/uploads/2025/01/4e7be76f-d1ba-3aa6-1b97-52f94fcef3d8.png
END:VEVENT
BEGIN:VEVENT
DTSTART;TZID=Europe/Amsterdam:20250822T210000
DTEND;TZID=Europe/Amsterdam:20250822T233000
DTSTAMP:20260422T110810
CREATED:20250613T125806Z
LAST-MODIFIED:20250729T072918Z
UID:10000101-1755896400-1755905400@wapenvanankeveen.nl
SUMMARY:Bubbles & Bites
DESCRIPTION:Afterparty van de door de scheve schaats georganiseerde Bubbles & Bites met niemand minder dan Dj Karim & saxobeat. Meer info volgt
URL:https://wapenvanankeveen.nl/evenement/bubbles-bites/
LOCATION:Wapen van Ankeveen\, Stichts End 41\, Ankeveen\, Noord-Holland\, 1244 PK\, Nederland
END:VEVENT
BEGIN:VEVENT
DTSTART;TZID=Europe/Amsterdam:20250817T150000
DTEND;TZID=Europe/Amsterdam:20250817T190000
DTSTAMP:20260422T110810
CREATED:20250613T124949Z
LAST-MODIFIED:20250613T124949Z
UID:10000100-1755442800-1755457200@wapenvanankeveen.nl
SUMMARY:Jamsessie met Brigitte de Boer
DESCRIPTION:Ongeëvenaarde Jam olv Brigitte de Boer. Deze Jazz & More Jamsessie is zeer is trek bij de liefhebber.
URL:https://wapenvanankeveen.nl/evenement/jamsessie-met-brigitte-de-boer-4/
LOCATION:Wapen van Ankeveen\, Stichts End 41\, Ankeveen\, Noord-Holland\, 1244 PK\, Nederland
ATTACH;FMTTYPE=image/jpeg:https://wapenvanankeveen.nl/wp-content/uploads/2024/04/Jamsessies-1130x650-1.jpg
END:VEVENT
BEGIN:VEVENT
DTSTART;TZID=Europe/Amsterdam:20250807T203000
DTEND;TZID=Europe/Amsterdam:20250807T233000
DTSTAMP:20260422T110810
CREATED:20250613T124718Z
LAST-MODIFIED:20250613T124718Z
UID:10000099-1754598600-1754609400@wapenvanankeveen.nl
SUMMARY:10 over rood
DESCRIPTION:Vandaag spelen we weer 10 over rood\, een leuke competitie waar iedereen kan meedoen. Het spel is heel simpel. Iedereen stoot met dezelfde witte bal en de bedoeling is dat je eerst de rode bal raakt en daarna de andere witte bal. Doe je dat\, dan heb je weer een punt. De betere spelers moeten meer punten maken dan de beginnende spelers. Kortom een gezellige avond waar niet alleen het biljarten centraal staat maar zeker op de gezelligheid. Inleg 2\,- deze inleg wordt aan het einde van het seizoen geschonken aan een lokaal goed doel.
URL:https://wapenvanankeveen.nl/evenement/10-over-rood-8/
LOCATION:Wapen van Ankeveen\, Stichts End 41\, Ankeveen\, Noord-Holland\, 1244 PK\, Nederland
ATTACH;FMTTYPE=image/jpeg:https://wapenvanankeveen.nl/wp-content/uploads/2024/07/Unknown-1.jpeg
END:VEVENT
BEGIN:VEVENT
DTSTART;TZID=Europe/Amsterdam:20250706T060000
DTEND;TZID=Europe/Amsterdam:20250706T140000
DTSTAMP:20260422T110810
CREATED:20250524T132934Z
LAST-MODIFIED:20250524T132934Z
UID:10000096-1751781600-1751810400@wapenvanankeveen.nl
SUMMARY:Ankeveense viskampioenschappen
DESCRIPTION:We strijden om de PIKO Bokaal op 6 juli 2025. Deelname 17\,50 pp (kinderen 7\,50). \nProgramma:\n06:00 uur koffie of limo bij t wapen\n06:30 uur naar de ijsclub\, vissen\n08:30 uur pauze met broodjes en koffie\n10:30 einde wedstrijd\, opruimen en naar ‘t wapen\n12:45 prijsuitreiking.\nDeelname: volwassen 17\,50 en kinderen 7\,50\nVoor de kinderen hebben we evt een gratis leenhengel.\nGeef je snel op bij Niels 06-55166565\nOf Stefan van H: 06-14951071
URL:https://wapenvanankeveen.nl/evenement/ankeveense-viskampioenschappen/
LOCATION:Wapen van Ankeveen\, Stichts End 41\, Ankeveen\, Noord-Holland\, 1244 PK\, Nederland
ATTACH;FMTTYPE=image/jpeg:https://wapenvanankeveen.nl/wp-content/uploads/2025/05/VIS-KAMPIOENSCHAPPEN.jpg
END:VEVENT
BEGIN:VEVENT
DTSTART;TZID=Europe/Amsterdam:20250703T203000
DTEND;TZID=Europe/Amsterdam:20250703T233000
DTSTAMP:20260422T110810
CREATED:20250613T124614Z
LAST-MODIFIED:20250613T124614Z
UID:10000098-1751574600-1751585400@wapenvanankeveen.nl
SUMMARY:10 over rood
DESCRIPTION:Vandaag spelen we weer 10 over rood\, een leuke competitie waar iedereen kan meedoen. Het spel is heel simpel. Iedereen stoot met dezelfde witte bal en de bedoeling is dat je eerst de rode bal raakt en daarna de andere witte bal. Doe je dat\, dan heb je weer een punt. De betere spelers moeten meer punten maken dan de beginnende spelers. Kortom een gezellige avond waar niet alleen het biljarten centraal staat maar zeker op de gezelligheid. Inleg 2\,- deze inleg wordt aan het einde van het seizoen geschonken aan een lokaal goed doel.
URL:https://wapenvanankeveen.nl/evenement/10-over-rood-7/
LOCATION:Wapen van Ankeveen\, Stichts End 41\, Ankeveen\, Noord-Holland\, 1244 PK\, Nederland
ATTACH;FMTTYPE=image/jpeg:https://wapenvanankeveen.nl/wp-content/uploads/2024/07/Unknown-1.jpeg
END:VEVENT
BEGIN:VEVENT
DTSTART;TZID=Europe/Amsterdam:20250629T150000
DTEND;TZID=Europe/Amsterdam:20250629T190000
DTSTAMP:20260422T110810
CREATED:20250604T151026Z
LAST-MODIFIED:20250605T110928Z
UID:10000097-1751209200-1751223600@wapenvanankeveen.nl
SUMMARY:Mystery Walk
DESCRIPTION:Zondagmiddag 29 juni 2025 organiseren we een gezellige Bluesrockmiddag met live muziek van Mystery Walk vanaf 15.00 uur! \nDoor de tientallen jaren heen hebben deze mannen hun sporen verdiend\, in tal van bands en in diverse stijlen. Zo heeft de drummer hier al meerdere keren gespeeld\, met andere bands\, zoals met The Koffers. Ze houden van het podium\, van het publiek en van muziek die je raakt in de ziel. Met overtuiging en passie spelen ze dampende bluesrock en een randje eromheen. Denk aan bekende en minder bekende covers van Matt Schofield\, Coco Montoya\, John Fogerty\, Bad Company\, Dr. Feelgood\, Thin Lizzy\, Gary Moore en meer muziekhelden van toen en nu. \n\nMystery Walk bestaat uit muzikanten uit de regio: Christiaan Scheele: sologitaar + lead vocals\, Mike Muller: slaggitaar\, keyboard + backing vocals\, Jan Ietswaart: basgitaar + backing vocals en Ton Broekhuis: drums. \n\nGezellig als je erbij bent! De toegang is gratis!
URL:https://wapenvanankeveen.nl/evenement/mystery-walk/
LOCATION:Wapen van Ankeveen\, Stichts End 41\, Ankeveen\, Noord-Holland\, 1244 PK\, Nederland
ATTACH;FMTTYPE=image/jpeg:https://wapenvanankeveen.nl/wp-content/uploads/2025/06/MW-aankondiging-optreden-t-Wapen-van-Ankeveen-29-juni-2025.jpg
END:VEVENT
BEGIN:VEVENT
DTSTART;TZID=Europe/Amsterdam:20250622T150000
DTEND;TZID=Europe/Amsterdam:20250622T190000
DTSTAMP:20260422T110810
CREATED:20250421T071536Z
LAST-MODIFIED:20250421T071536Z
UID:10000091-1750604400-1750618800@wapenvanankeveen.nl
SUMMARY:Jamsessie met Brigitte de Boer
DESCRIPTION:Ongeëvenaarde Jam olv Brigitte de Boer. Deze Jazz & More Jamsessie is zeer is trek bij de liefhebber. Normaal gesproken doen we deze Jam op de 3e zondag van de maand\, aangezien dit in juni op vaderdag valt hebben we besloten dit eenmalig naar de 4e zondag te verplaatsen
URL:https://wapenvanankeveen.nl/evenement/jamsessie-met-brigitte-de-boer-3/
LOCATION:Wapen van Ankeveen\, Stichts End 41\, Ankeveen\, Noord-Holland\, 1244 PK\, Nederland
ATTACH;FMTTYPE=image/jpeg:https://wapenvanankeveen.nl/wp-content/uploads/2024/04/Jamsessies-1130x650-1.jpg
END:VEVENT
BEGIN:VEVENT
DTSTART;TZID=Europe/Amsterdam:20250621T203000
DTEND;TZID=Europe/Amsterdam:20250621T233000
DTSTAMP:20260422T110810
CREATED:20250310T092402Z
LAST-MODIFIED:20250310T092442Z
UID:10000082-1750537800-1750548600@wapenvanankeveen.nl
SUMMARY:Disco Bingo
DESCRIPTION:Op 21 juni organiseren wij voor de 3e keer de Disco bingo! Voor wie de eerdere editie’s niet hebben meegemaakt\, dit is je kans. Een avond vol herkenbare hilarische meezingers\, deze wil je echt niet missen. Aanvang 20:30 tot ? Reserveren kan aan de bar of via 06-55166565 deelname 7\,50 pp.
URL:https://wapenvanankeveen.nl/evenement/disco-bingo-copy/
LOCATION:Wapen van Ankeveen\, Stichts End 41\, Ankeveen\, Noord-Holland\, 1244 PK\, Nederland
ATTACH;FMTTYPE=image/webp:https://wapenvanankeveen.nl/wp-content/uploads/2023/12/Disco-bingo.webp
END:VEVENT
BEGIN:VEVENT
DTSTART;TZID=Europe/Amsterdam:20250620T200000
DTEND;TZID=Europe/Amsterdam:20250620T233000
DTSTAMP:20260422T110810
CREATED:20250502T083840Z
LAST-MODIFIED:20250524T132704Z
UID:10000094-1750449600-1750462200@wapenvanankeveen.nl
SUMMARY:Prijsbiljarten
DESCRIPTION:Op zaterdag 20 juni is er weer een nieuwe editie van het prijsbiljarten. Koppels strijden tijdens dit spannende toernooi om de felbegeerde titel\, prijsbiljarter van het jaar. Deelname 5\,- pp. Leuke prijzen te verdienen\, Tevens wordt er nog een lotterij gehouden. \nAanmelden kan aan de bar of op 035-6561302
URL:https://wapenvanankeveen.nl/evenement/prijsbiljarten-3/
LOCATION:Wapen van Ankeveen\, Stichts End 41\, Ankeveen\, Noord-Holland\, 1244 PK\, Nederland
ATTACH;FMTTYPE=image/jpeg:https://wapenvanankeveen.nl/wp-content/uploads/2025/05/prijsbiljart-2025.jpg
END:VEVENT
BEGIN:VEVENT
DTSTART;TZID=Europe/Amsterdam:20250610T200000
DTEND;TZID=Europe/Amsterdam:20250610T233000
DTSTAMP:20260422T110810
CREATED:20250417T064346Z
LAST-MODIFIED:20250417T064346Z
UID:10000088-1749585600-1749598200@wapenvanankeveen.nl
SUMMARY:Paas pinkster Biljart tournooi
DESCRIPTION:Op 3e paasdag en 3e pinksterdag strijden we weer om de felbegeerde titel. kom gezellig langs om aan te moedigen of doe natuurlijk gewoon mee
URL:https://wapenvanankeveen.nl/evenement/paas-pinkster-biljart-tournooi-2/
LOCATION:Wapen van Ankeveen\, Stichts End 41\, Ankeveen\, Noord-Holland\, 1244 PK\, Nederland
ATTACH;FMTTYPE=image/jpeg:https://wapenvanankeveen.nl/wp-content/uploads/2025/04/prijsbiljart-2024.jpg
END:VEVENT
BEGIN:VEVENT
DTSTART;TZID=Europe/Amsterdam:20250607T160000
DTEND;TZID=Europe/Amsterdam:20250607T233000
DTSTAMP:20260422T110810
CREATED:20250520T070051Z
LAST-MODIFIED:20250520T070051Z
UID:10000095-1749312000-1749339000@wapenvanankeveen.nl
SUMMARY:BBQ onbeperkt
DESCRIPTION:Zaterdag 7 juni organiseert het wapen onder het genot van een drankje een heerlijke barbecue. Achter in het cafe hebben we een heuse kinderopvang\, gerund door 2 ervaren nanny’s waardoor u voor in het cafe heerlijk kunt genieten van een middagje/avond onder elkaar. Per volwassen rekenen wij slechts 12\,50 pp en de kinderen zijn 7\,50. Hiervoor kunt u onbeperkt BBQ’en. Reserveren doet u via 06-55166565
URL:https://wapenvanankeveen.nl/evenement/bbq-onbeperkt/
LOCATION:Wapen van Ankeveen\, Stichts End 41\, Ankeveen\, Noord-Holland\, 1244 PK\, Nederland
ATTACH;FMTTYPE=image/jpeg:https://wapenvanankeveen.nl/wp-content/uploads/2025/05/BBQ-Party-kopie.jpg
END:VEVENT
BEGIN:VEVENT
DTSTART;TZID=Europe/Amsterdam:20250605T203000
DTEND;TZID=Europe/Amsterdam:20250605T233000
DTSTAMP:20260422T110810
CREATED:20250502T081021Z
LAST-MODIFIED:20250502T081021Z
UID:10000092-1749155400-1749166200@wapenvanankeveen.nl
SUMMARY:10 over rood
DESCRIPTION:Vandaag spelen we weer 10 over rood\, een leuke competitie waar iedereen kan meedoen. Het spel is heel simpel. Iedereen stoot met dezelfde witte bal en de bedoeling is dat je eerst de rode bal raakt en daarna de andere witte bal. Doe je dat\, dan heb je weer een punt. De betere spelers moeten meer punten maken dan de beginnende spelers. Kortom een gezellige avond waar niet alleen het biljarten centraal staat maar zeker op de gezelligheid. Inleg 2\,- deze inleg wordt aan het einde van het seizoen geschonken aan een lokaal goed doel.
URL:https://wapenvanankeveen.nl/evenement/10-over-rood-6/
LOCATION:Wapen van Ankeveen\, Stichts End 41\, Ankeveen\, Noord-Holland\, 1244 PK\, Nederland
ATTACH;FMTTYPE=image/jpeg:https://wapenvanankeveen.nl/wp-content/uploads/2024/07/Unknown-1.jpeg
END:VEVENT
BEGIN:VEVENT
DTSTART;TZID=Europe/Amsterdam:20250523T190000
DTEND;TZID=Europe/Amsterdam:20250523T230000
DTSTAMP:20260422T110810
CREATED:20250421T071241Z
LAST-MODIFIED:20250421T071241Z
UID:10000090-1748026800-1748041200@wapenvanankeveen.nl
SUMMARY:Jamsessie Egbert Reulen
DESCRIPTION:Egbert Reulen\, verzorgd wederom een Jamsessie waar het niveau weer zeer hoog ligt. Neemt niet weg dat iedereen zich weer kan aanmelden om mee te jammen. Deze keer op een vrijdagavond
URL:https://wapenvanankeveen.nl/evenement/jamsessie-egbert-reulen-2/
LOCATION:Wapen van Ankeveen\, Stichts End 41\, Ankeveen\, Noord-Holland\, 1244 PK\, Nederland
ATTACH;FMTTYPE=image/jpeg:https://wapenvanankeveen.nl/wp-content/uploads/2024/04/Jamsessies-1130x650-1.jpg
END:VEVENT
BEGIN:VEVENT
DTSTART;TZID=Europe/Amsterdam:20250425T190000
DTEND;TZID=Europe/Amsterdam:20250425T233000
DTSTAMP:20260422T110810
CREATED:20250331T123943Z
LAST-MODIFIED:20250401T125743Z
UID:10000085-1745607600-1745623800@wapenvanankeveen.nl
SUMMARY:De Ronde van Ankeveen
DESCRIPTION:Op vrijdag 25 april organiseert de stichting SOFA de ronde van Ankeveen! De jaarlijkse hardloop ronde start en eindigt bij cafe het wapen van ankeveen. Deze avond (koiningsnacht wordt afgesloten in het Wapen met de heerlijke deuntjes van oa Eric C. \nDus na het hardlopen kunnen de voetjes nogmaals van de vloer.
URL:https://wapenvanankeveen.nl/evenement/de-ronde-van-ankeveen/
LOCATION:Wapen van Ankeveen\, Stichts End 41\, Ankeveen\, Noord-Holland\, 1244 PK\, Nederland
ATTACH;FMTTYPE=image/jpeg:https://wapenvanankeveen.nl/wp-content/uploads/2025/03/PHOTO-2025-03-31-15-48-59.jpg
END:VEVENT
BEGIN:VEVENT
DTSTART;TZID=Europe/Amsterdam:20250422T200000
DTEND;TZID=Europe/Amsterdam:20250422T233000
DTSTAMP:20260422T110810
CREATED:20250417T064234Z
LAST-MODIFIED:20250417T064234Z
UID:10000087-1745352000-1745364600@wapenvanankeveen.nl
SUMMARY:Paas pinkster Biljart tournooi
DESCRIPTION:Op 3e paasdag en 3e pinksterdag strijden we weer om de felbegeerde titel. kom gezellig langs om aan te moedigen of doe natuurlijk gewoon mee
URL:https://wapenvanankeveen.nl/evenement/paas-pinkster-biljart-tournooi/
LOCATION:Wapen van Ankeveen\, Stichts End 41\, Ankeveen\, Noord-Holland\, 1244 PK\, Nederland
ATTACH;FMTTYPE=image/jpeg:https://wapenvanankeveen.nl/wp-content/uploads/2025/04/prijsbiljart-2024.jpg
END:VEVENT
BEGIN:VEVENT
DTSTART;TZID=Europe/Amsterdam:20250421T080000
DTEND;TZID=Europe/Amsterdam:20250421T233000
DTSTAMP:20260422T110810
CREATED:20250417T064026Z
LAST-MODIFIED:20250417T064026Z
UID:10000086-1745222400-1745278200@wapenvanankeveen.nl
SUMMARY:2e Paasdag gesloten
DESCRIPTION:2e paasdag zijn wij gesloten\, Dinsdag 22 april zijn we weer open en hebben dan meteen het paas/pinkster biljart tournooi
URL:https://wapenvanankeveen.nl/evenement/2e-paasdag-gesloten/
LOCATION:Wapen van Ankeveen\, Stichts End 41\, Ankeveen\, Noord-Holland\, 1244 PK\, Nederland
ATTACH;FMTTYPE=image/jpeg:https://wapenvanankeveen.nl/wp-content/uploads/2025/04/2e-paasdag-Instagram-bericht-45.jpg
END:VEVENT
BEGIN:VEVENT
DTSTART;TZID=Europe/Amsterdam:20250420T150000
DTEND;TZID=Europe/Amsterdam:20250420T190000
DTSTAMP:20260422T110810
CREATED:20250331T070438Z
LAST-MODIFIED:20250331T070438Z
UID:10000084-1745161200-1745175600@wapenvanankeveen.nl
SUMMARY:Jamsessie met Brigitte de Boer
DESCRIPTION:Ongeëvenaarde Jam olv Brigitte de Boer. Deze Jazz & More Jamsessie is zeer is trek bij de liefhebber. Ditmaal een heuse paaseditie!
URL:https://wapenvanankeveen.nl/evenement/jamsessie-met-brigitte-de-boer-2/
LOCATION:Wapen van Ankeveen\, Stichts End 41\, Ankeveen\, Noord-Holland\, 1244 PK\, Nederland
ATTACH;FMTTYPE=image/jpeg:https://wapenvanankeveen.nl/wp-content/uploads/2024/04/Jamsessies-1130x650-1.jpg
END:VEVENT
BEGIN:VEVENT
DTSTART;TZID=Europe/Amsterdam:20250406T150000
DTEND;TZID=Europe/Amsterdam:20250406T190000
DTSTAMP:20260422T110810
CREATED:20250331T070247Z
LAST-MODIFIED:20250331T070247Z
UID:10000083-1743951600-1743966000@wapenvanankeveen.nl
SUMMARY:Jamsessie met Reddeloos verloren
DESCRIPTION:John Schouten zal met zijn band Reddeloos verloren weer een lekkere jamsessie houden in het wapen. Als je nu wilt zingen\, gitaarspelen\, drummen\, blazen\, fluiten… Iedereen kan meedoen\, inschrijven kan op de middag zelf.
URL:https://wapenvanankeveen.nl/evenement/jamsessie-met-reddeloos-verloren-8/
LOCATION:Wapen van Ankeveen\, Stichts End 41\, Ankeveen\, Noord-Holland\, 1244 PK\, Nederland
ATTACH;FMTTYPE=image/jpeg:https://wapenvanankeveen.nl/wp-content/uploads/2024/04/Jamsessies-1130x650-1.jpg
END:VEVENT
END:VCALENDAR